Workbook
Name Activo_Información: Hoja3!$I$34:$I$38
Name Apoyo: Hoja3!$E$87:$E$92
Name Corrupcion: Hoja3!$I$1:$I$3
Name Cumplimiento: Hoja1!$D$3:$D$7
Name Dependencia: Hoja3!$C$72:$C$102
Name Dirección: Hoja3!$E$72:$E$73
Name Estrategicos: Hoja1!$D$3:$D$7
Name Financieros: Hoja1!$D$3:$D$7
Name Gerenciales: Hoja1!$D$3:$D$7
Name Imagen_o_Reputacional: Hoja1!$D$3:$D$7
Name Operativos: Hoja1!$D$3:$D$7
Name Prestación_del_Servicio: Hoja3!$E$74:$E$85
Name Tecnologicos: Hoja1!$D$3:$D$7
Name Tipo: Hoja3!$A$66:$A$68
Name TIPO_PROCESO: Hoja1!$B$2:$B$6
Name TIPOLOGIA_DE_RIESGOS: Hoja1!$C$3:$C$10

Sheet 0.Portada
C1: MAPA DE RIESGOS DE GESTIÓN Y CORRUPCIÓN | L1: Página 1 de 6
L5: Código: | M5: FR-01-PR-MEJ-05
L7: Versión: | M7: 3
L8: Fecha: | M8: 43783
A9: PROCESO | B9: FOMENTO | E9: RESPONSABLE DEL PROCESO | G9: DIRECTOR (A) DE FOMENTO | J9: LÍDER SISTEMAS DE GESTIÓN | L9: RUBY LORENA CRUZ
A26: VERSION | B26: FECHA | C26: RAZÓN DE LA ACTUALIZACION
A27: 1 | B27: Diciembre 24 del 2018 | C27: Se elaborá manual MN-01-PR-MEJ-05 Metodología administración de riesgos de gestión - corrupción y formato FR-01-PR-MEJ-05 para su respectivo seguimiento.
B28: Enero del 2019 | C28: Se actualiza los riesgos de la Secretaría de Cultura, Recreación y Deporte con el fin de unificar riesgos de gestión y corrupción en cumplimiento de la actualizacion de los lineamiento de administración de riesgos.
A29: 2 | B29: Noviembre 13 del 2019 | C29: Se modifica el formato incluyendo todos los pasos para la formulación de riesgos, anexa mapa de calor y en la valoración del riesgo se incluye valoración de controles rango calificación del diseño, rango calificación de la ejecución y solidez del control integralmente (Diseño y Ejecución). orfeo no. 20195000215133
A30: 3 | B30: Diciembre 09 del 2019 | C30: Actualización Mapa de Riesgos 2020 radicado Orfeo no. 20192200234973
A31: 4 | B31: Diciembre 17/2020 | C31: Se actualiza mapa de riesgos del proceso de Fomento radicado Orfeo no.20202200279763, de acuerdo con el mapeo radicado Orfeo no. 20202200279753.
A32: 5 | B32: Julio 17/2020 | C32: Se actualiza mapa de riesgos del proceso de Fomento radicado Orfeo no.Radicado No.20212200187843, solicitando ajuste al plan de manejo en las tareas del Riesgo No. 2,3 y la fecha de terminación de la tarea asociada al Riesgo No. 1 , con su respectiva justificación en la solicitud de modificación.
A35: Seguimiento y Monitoreo
B37: Elaboró | G37: Revisó
B38: Nombre | C38: ANDRES RIAÑO DIAZ | G38: Nombre | H38: FRANCY YOBANNA MORALES ACOSTA
B39: Cargo | C39: Profesional Universitario | G39: Cargo | H39: Directora de Fomento
B40: Dependencia | C40: Dirección de Fomento | G40: Dependencia | H40: Dirección de Fomento
B41: Fecha | C41: diciembre de 2020 | G41: Fecha | H41: diciembre de 2020

Sheet 1.Contexto
B1: MAPA DE RIESGOS | X1: Página 1 de 6
X5: Código: | Z5: FR-01-PR-MEJ-05
X7: Versión: | Z7: 3
X8: Fecha: | Z8: 43783
A9: Partiendo del contexto de la entidad "FT-01-DES-EST Conocimiento y contexto de la Organización para el Direccionamiento Estratégico" y el mapeo de cada uno de los procesos, se analiza las amenzas y debilidades que pueden generar situación de riesgo, teniendo en cuenta los objetivos estratégicos y de proceso de la entidad, a nivel de Contexto interno, externo y del Proceso.
A11: CONTEXTO ESTRATÉGICO DE LOS PROCESO
A13: EXTERNOS | J13: INTERNOS | S13: PROCESO
A14: FACTORES | B14: AMENAZAS | F14: SITUACION DE RIESGO | J14: FACTORES | K14: DEBILIDADES | N14: SITUACION DE RIESGO | S14: FACTORES | T14: DEBILIDADES | W14: SITUACION DE RIESGO
A15: ECONÓMICOS (Disponibilidad de capital, liquidez, mercados financieros, desempleo, competencia). | J15: FINANCIEROS (Presupuesto de funcionamiento, recursos de inversión, infraestructura, capacidad instalada). | S15: DISEÑO DEL PROCESO (Claridad en la descripción del alcance y objetivo del proceso).
A19: POLÍTICOS (Cambios de gobierno, legislación, políticas públicas, regulación). | J19: PERSONAL (Competencia del personal, disponibilidad del personal, seguridad y salud ocupacional). | S19: INTERACCIONES CON OTROS PROCESOS (Relación precisa con otros procesos en cuanto a insumos, proveedores, productos, usuarios o clientes).
A24: SOCIALES ( Demografía, responsabilidad social, orden público). | B24: 1. Las estrategias de difusión y comunicación de la convocatoria no son efectivas, falencias en la formulación de la convocatoria. 2. Falta de interés por parte de las entidades y organizaciones sociales y culturales del sector en los procesos de convocatoria. (FT-01-DES-EST) | F24: Las propuestas inscritas en cada una de las convocatorias no sean suficientes para entregrar y ejecutar la totalidad de los recursos asignados. (R1) | J24: PROCESOS (Capacidad, diseño, ejecución, proveedores, entradas, salidas, gestión del conocimiento). | S24: TRANSVERSALIDAD (Procesos que determinan lineamientos necesarios para el desarrollo de todos los procesos de la entidad).
A27: TECNOLÓGICOS (Avances en tecnología, acceso a sistemas de información externos, gobierno en línea) | J27: TECNOLOGÍA (Integridad de datos, disponibilidad de datos y sistemas, desarrollo, producción, mantenimiento de sistemas de información). | S27: PROCEDIMIENTOS ASOCIADOS (Pertinencia en los procedimientos que desarrollan los procesos).
A32: MEDIO AMBIENTALES (Emisiones y residuos, energía, catástrofes naturales, desarrollo sostenible). | J32: ESTRATÉGICOS (Direccionamiento estratégico, planeación institucional, liderazgo, trabajo en equipo y Legal). | S32: RESPONSABLES DEL PROCESO (Grado de autoridad y responsabilidad de los funcionarios frente al proceso). | T32: Los responsables misionales no realizan proceso de acompañamiento a las actividades planteadas en los proyectos ganadores. | W32: Incumplimiento en la ejecución de las actividades planteadas en los proyectos ganadores de las convocatorias. (R2)
T33: Manipulación de la información para beneficiar algún participante. | W33: Manipulación de la información para que los participantes reciban un beneficio economico sin cumplir con los requisitos establecidos, para beneficio porpio o de un tercero. (R3)
A36: COMUNICACIÓN EXTERNA (Mecanismos utilizados para entrar en contacto con los usuarios o ciudadanos, canales establecidos para que el mismo se comunique con la entidad). | J36: COMUNICACIÓN INTERNA (Canales utilizados y su efectividad, flujo de la información necesaria para el desarrollo de las operaciones). | S36: COMUNICACIÓN ENTRE LOS PROCESOS (Efectividad en los flujos de información determinados en la interacción de los procesos).

Sheet 2.Identificacion_Riesgos
E1: MAPA DE RIESGOS | R1: Página 2 de 6
R5: Código: | U5: FR-01-PR-MEJ-05
R6: Versión: | U6: 3
R7: Fecha: | U7: 43783
A8: ID | B8: TIPO DE PROCESO | C8: PROCESO | D8: DEPENDENCIA | E8: RIESGO | F8: CAUSAS INTERNAS/EXTERNAS | G8: CONSECUENCIA | H8: TIPOLOGÍA DE RIESGOS | I8: PROBABILIDAD | K8: IMPACTO | M8: ZONA DE RIESGO INHERENTE | N8: CONTROLES (ID CONTROL) | O8: CALIFICACIÓN CONTROLES PROBABILIDAD | P8: CALIFICACIÓN CONTROLES IMPACTO | Q8: PROBABILIDAD | S8: IMPACTO | U8: ZONA DE RIESGO RESIDUAL | V8: OPCIONES DE MANEJO
A10: R1 | B10: Misional | C10: Fomento | D10: Dirección de Fomento | E10: Las propuestas inscritas en cada una de las convocatorias no sean suficientes para entregrar y ejecutar la totalidad de los recursos asignados. | F10: 1. Los canales de difusión utilizados no integran la totalidad de la poblción objetivo. | G10: 1, Incumplimiento metas institucionales. 2, Desaprovechamiento de los recuros destinados para las convocatorias | H10: Operativos | I10: Posible | J10: =IF(I10="Raro",1,IF(I10="Improbable",2,IF(I10="Posible",3,IF(I10="Probable",4,IF(I10="Casi Seguro",5))))) -> 3 | K10: Menor | L10: =IF(K10="Insignificante",1,IF(K10="Menor",2,IF(K10="Moderado",3,IF(K10="Mayor ",4,IF(K10="Catastrófico",5))))) -> 2 | M10: =IF(AND(J10=1,L10=1),"BAJO 4%",IF(AND(J10=1,L10=2),"BAJO 16%",IF(AND(J10=2,L10=1),"BAJO 8%",IF(AND(J10=2,L10=2),"BAJO 20%",IF(AND(J10=3,L10=1),"BAJO 12%",IF(AND(J10=4,L10=1),"MODERADO 24%",IF(AND(J10=3,L10=2),"MODERADO 28%",IF(AND(J10=1,L10=3),"MODERADO 32%",IF(AND(J10=2,L10=3),"MODERADO 36%",IF(AND(J10=5,L10=1),"ALTO 40%",IF(AND(J10=4,L10=2),"ALTO 44%",IF(AND(J10=5,L10=2),"ALTO 48%",IF(AND(J10=3,L10=3),"ALTO 52%",IF(AND(J10=4,L10=3),"ALTO 56%",IF(AND(J10=1,L10=4),"ALTO 60%",IF(AND(J10=2,L10=4),"ALTO 64%",IF(AND(J10=1,L10=5),"ALTO 68%",IF(AND(J10=5,L10=3),"EXTREMA 72%",IF(AND(J10=3,L10=4),"EXTREMA 76%",IF(AND(J10=4,L10=4),"EXTREMA 80%",IF(AND(J10=5,L10=4),"EXTREMA 84%",IF(AND(J10=2,L10=5),"EXTREMA 88%",IF(AND(J10=3,L10=5),"EXTREMA 92%",IF(AND(J10=4,L10=5),"EXTREMA 96%",IF(AND(J10=5,L10=5),"EXTREMA 100%"))))))))))))))))))))))))) -> MODERADO 28% | N10: =IF('3.Controles'!D12=1,"C1",IF('3.Controles'!D12=2,"C1,C2",IF('3.Controles'!D12=3,"C1,C2,C3",IF('3.Controles'!D12=4,"C1,C2,C3,C4",IF('3.Controles'!D12=5,"C1,C2,C3,C4,C5",IF('3.Controles'!D12=6,"C1,C2,C3,C4,C5,C6")))))) -> C1,C2 | O10: ='3.Controles'!V12 -> 100 | P10: ='3.Controles'!V11 -> 100 | Q10: =IF(R10=1,"Raro",IF(R10=2,"Improbable",IF(R10=3,"Posible",IF(R10=4,"Probable",IF(R10=5,"Casi Seguro"))))) -> Raro | R10: =IF('3.Controles'!U12=1,IF('3.Controles'!V12<55,J10,IF('3.Controles'!V12<75,J10-1,IF('3.Controles'!V12<110,J10-2))),J10) -> 1 | S10: =IF(T10=1,"Insignificante",IF(T10=2,"Menor",IF(T10=3,"Moderado",IF(T10=4,"Mayor",IF(T10=5,"Catastrofico"))))) -> Insignificante | T10: =IF('3.Controles'!U11=1,IF('3.Controles'!V11<55,L14,IF('3.Controles'!V11<75,L14-1,IF('3.Controles'!V11<110,L14-2))),L14) -> 1 | U10: =IF(AND(R10=1,T10=1),"BAJO 4%",IF(AND(R10=1,T10=2),"BAJO 16%",IF(AND(R10=2,T10=1),"BAJO 8%",IF(AND(R10=2,T10=2),"BAJO 20%",IF(AND(R10=3,T10=1),"BAJO 12%",IF(AND(R10=4,T10=1),"MODERADO 24%",IF(AND(R10=3,T10=2),"MODERADO 28%",IF(AND(R10=1,T10=3),"MODERADO 32%",IF(AND(R10=2,T10=3),"MODERADO 36%",IF(AND(R10=5,T10=1),"ALTO 40%",IF(AND(R10=4,T10=2),"ALTO 44%",IF(AND(R10=5,T10=2),"ALTO 48%",IF(AND(R10=3,T10=3),"ALTO 52%",IF(AND(R10=4,T10=3),"ALTO 56%",IF(AND(R10=1,T10=4),"ALTO 60%",IF(AND(R10=2,T10=4),"ALTO 64%",IF(AND(R10=1,T10=5),"ALTO 68%",IF(AND(R10=5,T10=3),"EXTREMA 72%",IF(AND(R10=3,T10=4),"EXTREMA 76%",IF(AND(R10=4,T10=4),"EXTREMA 80%",IF(AND(R10=5,T10=4),"EXTREMA 84%",IF(AND(R10=2,T10=5),"EXTREMA 88%",IF(AND(R10=3,T10=5),"EXTREMA 92%",IF(AND(R10=4,T10=5),"EXTREMA 96%",IF(AND(R10=5,T10=5),"EXTREMA 100%"))))))))))))))))))))))))) -> BAJO 4% | V10: REDUCIRLO O MITIGARLO
F11: 2, La formulación de las convocatorias no contempló un análisis profundo de la población objetivo de la convocatoria.
A12: R2 | B12: Misional | C12: Fomento | D12: Dirección de Fomento | E12: Incumplimiento en la ejecución de las actividades planteadas en los proyectos ganadores de las convocatorias. | F12: 1,No se presta el acompañamiento adecuado por parte de las SCRD para el cumpliento de las actividades. | G12: 1, Perdida de creidibilidad de los proceso que adelanta la entidad. 2, Sanciones disiplinarias. | H12: Cumplimiento | I12: Raro | J12: =IF(I12="Raro",1,IF(I12="Improbable",2,IF(I12="Posible",3,IF(I12="Probable",4,IF(I12="Casi Seguro",5))))) -> 1 | K12: Menor | L12: =IF(K12="Insignificante",1,IF(K12="Menor",2,IF(K12="Moderado",3,IF(K12="Mayor ",4,IF(K12="Catastrófico",5))))) -> 2 | M12: =IF(AND(J12=1,L12=1),"BAJO 4%",IF(AND(J12=1,L12=2),"BAJO 16%",IF(AND(J12=2,L12=1),"BAJO 8%",IF(AND(J12=2,L12=2),"BAJO 20%",IF(AND(J12=3,L12=1),"BAJO 12%",IF(AND(J12=4,L12=1),"MODERADO 24%",IF(AND(J12=3,L12=2),"MODERADO 28%",IF(AND(J12=1,L12=3),"MODERADO 32%",IF(AND(J12=2,L12=3),"MODERADO 36%",IF(AND(J12=5,L12=1),"ALTO 40%",IF(AND(J12=4,L12=2),"ALTO 44%",IF(AND(J12=5,L12=2),"ALTO 48%",IF(AND(J12=3,L12=3),"ALTO 52%",IF(AND(J12=4,L12=3),"ALTO 56%",IF(AND(J12=1,L12=4),"ALTO 60%",IF(AND(J12=2,L12=4),"ALTO 64%",IF(AND(J12=1,L12=5),"ALTO 68%",IF(AND(J12=5,L12=3),"EXTREMA 72%",IF(AND(J12=3,L12=4),"EXTREMA 76%",IF(AND(J12=4,L12=4),"EXTREMA 80%",IF(AND(J12=5,L12=4),"EXTREMA 84%",IF(AND(J12=2,L12=5),"EXTREMA 88%",IF(AND(J12=3,L12=5),"EXTREMA 92%",IF(AND(J12=4,L12=5),"EXTREMA 96%",IF(AND(J12=5,L12=5),"EXTREMA 100%"))))))))))))))))))))))))) -> BAJO 16% | N12: =IF('3.Controles'!D16=1,"C1",IF('3.Controles'!D16=2,"C1,C2",IF('3.Controles'!D16=3,"C1,C2,C3",IF('3.Controles'!D16=4,"C1,C2,C3,C4",IF('3.Controles'!D16=5,"C1,C2,C3,C4,C5",IF('3.Controles'!D16=6,"C1,C2,C3,C4,C5,C6")))))) -> C1,C2 | O12: ='3.Controles'!V16 -> 85 | P12: ='3.Controles'!V15 -> 100 | Q12: =IF(R12=1,"Raro",IF(R12=2,"Improbable",IF(R12=3,"Posible",IF(R12=4,"Probable",IF(R12=5,"Casi Seguro"))))) -> Raro | R12: =IF('3.Controles'!U16=1,IF('3.Controles'!V16<55,L14,IF('3.Controles'!V16<75,L14-1,IF('3.Controles'!V16<110,L14-2))),L14) -> 1 | S12: =IF(T12=1,"Insignificante",IF(T12=2,"Menor",IF(T12=3,"Moderado",IF(T12=4,"Mayor",IF(T12=5,"Catastrofico"))))) -> Insignificante | T12: =IF('3.Controles'!U15=1,IF('3.Controles'!V15<55,L14,IF('3.Controles'!V15<75,L14-1,IF('3.Controles'!V15<110,L14-2))),L14) -> 1 | U12: =IF(AND(R12=1,T12=1),"BAJO 4%",IF(AND(R12=1,T12=2),"BAJO 16%",IF(AND(R12=2,T12=1),"BAJO 8%",IF(AND(R12=2,T12=2),"BAJO 20%",IF(AND(R12=3,T12=1),"BAJO 12%",IF(AND(R12=4,T12=1),"MODERADO 24%",IF(AND(R12=3,T12=2),"MODERADO 28%",IF(AND(R12=1,T12=3),"MODERADO 32%",IF(AND(R12=2,T12=3),"MODERADO 36%",IF(AND(R12=5,T12=1),"ALTO 40%",IF(AND(R12=4,T12=2),"ALTO 44%",IF(AND(R12=5,T12=2),"ALTO 48%",IF(AND(R12=3,T12=3),"ALTO 52%",IF(AND(R12=4,T12=3),"ALTO 56%",IF(AND(R12=1,T12=4),"ALTO 60%",IF(AND(R12=2,T12=4),"ALTO 64%",IF(AND(R12=1,T12=5),"ALTO 68%",IF(AND(R12=5,T12=3),"EXTREMA 72%",IF(AND(R12=3,T12=4),"EXTREMA 76%",IF(AND(R12=4,T12=4),"EXTREMA 80%",IF(AND(R12=5,T12=4),"EXTREMA 84%",IF(AND(R12=2,T12=5),"EXTREMA 88%",IF(AND(R12=3,T12=5),"EXTREMA 92%",IF(AND(R12=4,T12=5),"EXTREMA 96%",IF(AND(R12=5,T12=5),"EXTREMA 100%"))))))))))))))))))))))))) -> BAJO 4% | V12: REDUCIRLO O MITIGARLO
F13: 2, El proceso de evaluación no identifica las falencias en la formulación de los proyectos.
A14: R3 | B14: Misional | C14: Fomento | D14: Dirección de Fomento | E14: Manipulación de la información para que los participantes reciban un beneficio economico sin cumplir con los requisitos establecidos, para beneficio porpio o de un tercero. | F14: 1, No se realiza la adecuada verificación de las propuestas por parte de el misional encragado de la convocatoria. | G14: Perdida de credibilidad de los programas, generando sanciones disciplinarias, fiscales y penales. | H14: Corrupcion | I14: Posible | J14: =IF(I14="Raro",1,IF(I14="Improbable",2,IF(I14="Posible",3,IF(I14="Probable",4,IF(I14="Casi Seguro",5))))) -> 3 | K14: Moderado | L14: =IF(K14="Insignificante",1,IF(K14="Menor",2,IF(K14="Moderado",3,IF(K14="Mayor ",4,IF(K14="Catastrófico",5))))) -> 3 | M14: =IF(AND(J14=1,L14=1),"BAJO 4%",IF(AND(J14=1,L14=2),"BAJO 16%",IF(AND(J14=2,L14=1),"BAJO 8%",IF(AND(J14=2,L14=2),"BAJO 20%",IF(AND(J14=3,L14=1),"BAJO 12%",IF(AND(J14=4,L14=1),"MODERADO 24%",IF(AND(J14=3,L14=2),"MODERADO 28%",IF(AND(J14=1,L14=3),"MODERADO 32%",IF(AND(J14=2,L14=3),"MODERADO 36%",IF(AND(J14=5,L14=1),"ALTO 40%",IF(AND(J14=4,L14=2),"ALTO 44%",IF(AND(J14=5,L14=2),"ALTO 48%",IF(AND(J14=3,L14=3),"ALTO 52%",IF(AND(J14=4,L14=3),"ALTO 56%",IF(AND(J14=1,L14=4),"ALTO 60%",IF(AND(J14=2,L14=4),"ALTO 64%",IF(AND(J14=1,L14=5),"ALTO 68%",IF(AND(J14=5,L14=3),"EXTREMA 72%",IF(AND(J14=3,L14=4),"EXTREMA 76%",IF(AND(J14=4,L14=4),"EXTREMA 80%",IF(AND(J14=5,L14=4),"EXTREMA 84%",IF(AND(J14=2,L14=5),"EXTREMA 88%",IF(AND(J14=3,L14=5),"EXTREMA 92%",IF(AND(J14=4,L14=5),"EXTREMA 96%",IF(AND(J14=5,L14=5),"EXTREMA 100%"))))))))))))))))))))))))) -> ALTO 52% | N14: =IF('3.Controles'!D20=1,"C1",IF('3.Controles'!D20=2,"C1,C2",IF('3.Controles'!D20=3,"C1,C2,C3",IF('3.Controles'!D20=4,"C1,C2,C3,C4",IF('3.Controles'!D20=5,"C1,C2,C3,C4,C5",IF('3.Controles'!D20=6,"C1,C2,C3,C4,C5,C6")))))) -> C1,C2 | O14: ='3.Controles'!V20 -> 100 | P14: ='3.Controles'!V19 -> 100 | Q14: =IF(R14=1,"Raro",IF(R14=2,"Improbable",IF(R14=3,"Posible",IF(R14=4,"Probable",IF(R14=5,"Casi Seguro"))))) -> Raro | R14: =IF('3.Controles'!U20=1,IF('3.Controles'!V20<55,J14,IF('3.Controles'!V20<75,J14-1,IF('3.Controles'!V20<110,J14-2))),J14) -> 1 | S14: =IF(T14=1,"Insignificante",IF(T14=2,"Menor",IF(T14=3,"Moderado",IF(T14=4,"Mayor",IF(T14=5,"Catastrofico"))))) -> Insignificante | T14: =IF('3.Controles'!U19=1,IF('3.Controles'!V19<55,L14,IF('3.Controles'!V19<75,L14-1,IF('3.Controles'!V19<110,L14-2))),L14) -> 1 | U14: =IF(AND(R14=1,T14=1),"BAJO 4%",IF(AND(R14=1,T14=2),"BAJO 16%",IF(AND(R14=2,T14=1),"BAJO 8%",IF(AND(R14=2,T14=2),"BAJO 20%",IF(AND(R14=3,T14=1),"BAJO 12%",IF(AND(R14=4,T14=1),"MODERADO 24%",IF(AND(R14=3,T14=2),"MODERADO 28%",IF(AND(R14=1,T14=3),"MODERADO 32%",IF(AND(R14=2,T14=3),"MODERADO 36%",IF(AND(R14=5,T14=1),"ALTO 40%",IF(AND(R14=4,T14=2),"ALTO 44%",IF(AND(R14=5,T14=2),"ALTO 48%",IF(AND(R14=3,T14=3),"ALTO 52%",IF(AND(R14=4,T14=3),"ALTO 56%",IF(AND(R14=1,T14=4),"ALTO 60%",IF(AND(R14=2,T14=4),"ALTO 64%",IF(AND(R14=1,T14=5),"ALTO 68%",IF(AND(R14=5,T14=3),"EXTREMA 72%",IF(AND(R14=3,T14=4),"EXTREMA 76%",IF(AND(R14=4,T14=4),"EXTREMA 80%",IF(AND(R14=5,T14=4),"EXTREMA 84%",IF(AND(R14=2,T14=5),"EXTREMA 88%",IF(AND(R14=3,T14=5),"EXTREMA 92%",IF(AND(R14=4,T14=5),"EXTREMA 96%",IF(AND(R14=5,T14=5),"EXTREMA 100%"))))))))))))))))))))))))) -> BAJO 4% | V14: REDUCIRLO O MITIGARLO
F15: 2, El proceso de evaluación por los jurados no cumple con los criterios establecidos por la convocatoria
A16: R4
A21: R5
A26: R6
A31: R7
A36: R8
A41: R9
A46: R10

Sheet Hoja1
B2: TIPO PROCESO | C2: TIPOLOGÍA DE RIESGOS | D2: IMPACTO | E2: DEPENDENCIA | F2: PROCESO | G2: ¿Existe un responsable asignado a la ejecución del control?
B3: Estratégico | C3: Estrategicos | D3: Insignificante | E3: Dirección de Planeación | F3: Direccionamiento Estratégico | G3: Asignado | H3: 15
B4: Misional | C4: Gerenciales | D4: Menor | E4: Dirección de Planeación | F4: Mejora Continua | G4: No asignado | H4: 0
B5: Apoyo | C5: Operativos | D5: Moderado | E5: Oficina Asesora de Comunicaciones | F5: Comunicaciones
B6: Evaluación | C6: Financieros | D6: Mayor | E6: Dirección de Fomento | F6: Fomento | G6: ¿El responsable tiene la autoridad y adecuada segregación de funciones en la ejecución del control?
C7: Tecnologicos | D7: Catastrófico | E7: Dirección de Cultura Ciudadana | F7: Trasnformaciones Culturales | G7: Asignado | H7: 15
C8: Cumplimiento | E8: Dirección de Lectura y Bibliotecas | F8: Transformaciones Culturales | G8: No asignado | H8: 0
C9: Imagen_o_Reputacional | E9: Dirección de Asusntos Locales | F9: Participación y Dialogo Social
C10: Corrupcion | E10: Dirección de Arte, Cultura y Patrimonio | F10: Gestión de la Infraestructura Cultural y Patrimonial | G10: ¿La oportunidad en que se ejecuta el control ayuda a prevenir la mitigación del riesgo o a detectar la materialización del riesgo de manera oportuna?
E11: Dirección de Persona Jurídicas | F11: Formalización de Entidades sin ánimo de lucro | G11: Oportuna | H11: 15
E12: Dirección de Gestión Corporativa | F12: Atención al Ciudadano | G12: Inoportuna | H12: 0
B13: Preventivo | E13: Grupo Interno de Recursos Financieros | F13: Gestión Financiera
B14: Detectivo | E14: Grupo Interno de Recursos Físicos | F14: Gestión Documental, de Recursos Físicos y Servicios Generales | G14: ¿Las actividades que se desarrollan en el control realmente buscan por si sola prevenir o detectar las causas que pueden dar origen al riesgo, ejemplo Verificar, Validar Cotejar, Comparar, Revisar, ¿etc.?
B15: No es un control | E15: Grupo Interno de Recursos Humanos | F15: Gestión de Talento Humano | G15: Prevenir | H15: 15
E16: Grupo Interno de Sistemas | F16: Gestión de Tic | G16: Detectar | H16: 10
E17: Oficina Asesora Jurídica | F17: Gestión Jurídica | G17: No es un control | H17: 0
E18: Oficina de Control interno | F18: Seguimiento y Evaluación de la Gestión
E19: Oficina de Control Iinterno Disciplinario | F19: Control Disciplinario | G19: ¿La fuente de información que se utiliza en el desarrollo del control es información confiable que permita mitigar el riesgo?
B20: FUERTE | G20: Confiable | H20: 15
B21: MODERADO | G21: No confiable | H21: 0
B22: DÉBIL
G23: ¿Las observaciones, desviaciones o diferencias identificadas como resultados de la ejecución del control son investigadas y resueltas de manera oportuna?
G24: Se investigan y resuelven oportunamente | H24: 15
B25: Adecuado | C25: Confiable | G25: No se investigan y resuelven oportunamente. | H25: 0
B26: Inadecuado | C26: No confiable
G27: ¿Se deja evidencia o rastro de la ejecución del control, que permita a cualquier tercero con la evidencia, llegar a la misma conclusión?
G28: Completa | H28: 10
G29: Incompleta | H29: 5
G30: No existente
B37: Fuerte | C37: Calificación entre 96 y 100
B38: Moderado | C38: Calificación entre 86 y 95
B39: Débil | C39: Calificación entre 0 y 85

Sheet 3.Controles
C1: MAPA DE RIESGOS | X1: Página 3 de 6
X5: Código: | Y5: FR-01-PR-MEJ-05
X6: Versión: | Y6: 3
X7: Fecha: | Y7: 43783
A8: ID RIESGO | B8: RIESGO | C8: CAUSAS | D8: ID CONTROL | E8: CONTROL | F8: ¿EN QUE DOCUMENTO, SE EVIDENCIA EL CONTROL? | G8: AFECTA IMPACTO | H8: AFECTA PROBABILIDAD | I8: ¿Existe un responsable asignado a la ejecución del control? | J8: Valor | K8: ¿El responsable tiene la autoridad y adecuada segregación de funciones en la ejecución del control? | L8: Valor | M8: ¿La oportunidad en que se ejecuta el control ayuda a prevenir la mitigación del riesgo o a detectar la materialización del riesgo de manera oportuna? | N8: Valor | O8: ¿Las actividades que se desarrollan en el control realmente buscan por si sola prevenir o detectar las causas que pueden dar origen al riesgo, ejemplo Verificar, Validar Cotejar, Comparar, Revisar (…)? | P8: Valor | Q8: ¿La fuente de información que se utiliza en el desarrollo del control es información confiable que permita mitigar el riesgo? | R8: Valor | S8: ¿Las observaciones, desviaciones o diferencias identificadas como resultados de la ejecución del control son investigadas y resueltas de manera oportuna? | T8: Valor | U8: ¿Se deja evidencia o rastro de la ejecución del control, que permita a cualquier tercero con la evidencia, llegar a la misma conclusión? | V8: Valor | W8: PUNTAJE | X8: Rango Calificación del Diseño | Y8: Rango Calificación de la ejecución | Z8: Solidez del Control Integralmente (Diseño y Ejecución)
A9: R1 | B9: ='2.Identificacion_Riesgos'!E10 -> Las propuestas inscritas en cada una de las convocatorias no sean suficientes para entregrar y ejecutar la totalidad de los recursos asignados. | C9: ='2.Identificacion_Riesgos'!F10 -> 1. Los canales de difusión utilizados no integran la totalidad de la poblción objetivo. | D9: C1 | E9: Se diseña un plan de comunicación y difusión de las convocatorias junto con la oficina asesora de comunicaciones. | F9: Acta de reunión - Estrategias de Difusión- | G9: SI | H9: NO | I9: Asignado | J9: =IF(I9="Asignado",15,0) -> 15 | K9: Adecuado | L9: =IF(K9="Adecuado",15,0) -> 15 | M9: Oportuna | N9: =IF(M9="Oportuna",15,0) -> 15 | O9: Preventivo | P9: =IF(O9="Preventivo",15,0) -> 15 | Q9: Confiable | R9: =IF(Q9="Confiable",15,0) -> 15 | S9: Se investigan y resuelven oportunamente | T9: =IF(S9="Se investigan y resuelven oportunamente",15,0) -> 15 | U9: Completa | V9: =IF(U9="Completa",10,IF(U9="Incompleta ",5,IF(U9="No existente",0,0))) -> 10 | W9: =SUM(J9,L9,N9,P9,R9,T9,V9) -> 100 | X9: =IF(W9<=85,"DÉBIL",IF(AND(W9>85,W9<=95),"MODERADO",IF(W9>96,"FUERTE","X"))) -> FUERTE | Y9: FUERTE | Z9: =IF(AND(X9="FUERTE",Y9="FUERTE"),"FUERTE",IF(AND(X9="FUERTE",Y9="MODERADO"),"MODERADO",IF(AND(X9="FUERTE",Y9="DÉBIL"),"DÉBIL",IF(AND(X9="MODERADO",Y9="FUERTE"),"MODERADO",IF(AND(X9="MODERADO",Y9="MODERADO"),"MODERADO",IF(AND(X9="MODERADO",Y9="DÉBIL"),"DÉBIL",IF(AND(X9="DÉBIL",Y9="FUERTE"),"DÉBIL",IF(AND(X9="DÉBIL",Y9="MODERADO"),"DÉBIL",IF(AND(X9="DÉBIL",Y9="DÉBIL"),"DÉBIL","XX"))))))))) -> FUERTE | AB9: Rango Calificación de la Ejecución | AC9: Opción de Respuesta al Criterio de Evaluación
C10: ='2.Identificacion_Riesgos'!F11 -> 2, La formulación de las convocatorias no contempló un análisis profundo de la población objetivo de la convocatoria. | D10: C2 | E10: Se verifica que la información correspondiente a la formulación de la convocatoria este acorde con las condiciones establecidas. | F10: Formato FR-12-PR-FOM-04 Guía Formulación Convocatorias | G10: NO | H10: SI | I10: Asignado | J10: =IF(I10="Asignado",15,0) -> 15 | K10: Adecuado | L10: =IF(K10="Adecuado",15,0) -> 15 | M10: Oportuna | N10: =IF(M10="Oportuna",15,0) -> 15 | O10: Preventivo | P10: =IF(O10="Preventivo",15,0) -> 15 | Q10: Confiable | R10: =IF(Q10="Confiable",15,0) -> 15 | S10: Se investigan y resuelven oportunamente | T10: =IF(S10="Se investigan y resuelven oportunamente",15,0) -> 15 | U10: Completa | V10: =IF(U10="Completa",10,IF(U10="Incompleta ",5,IF(U10="No existente",0,0))) -> 10 | W10: =SUM(J10,L10,N10,P10,R10,T10,V10) -> 100 | X10: =IF(W10<=85,"DÉBIL",IF(AND(W10>85,W10<=95),"MODERADO",IF(W10>96,"FUERTE","X"))) -> FUERTE | Y10: FUERTE | Z10: =IF(AND(X10="FUERTE",Y10="FUERTE"),"FUERTE",IF(AND(X10="FUERTE",Y10="MODERADO"),"MODERADO",IF(AND(X10="FUERTE",Y10="DÉBIL"),"DÉBIL",IF(AND(X10="MODERADO",Y10="FUERTE"),"MODERADO",IF(AND(X10="MODERADO",Y10="MODERADO"),"MODERADO",IF(AND(X10="MODERADO",Y10="DÉBIL"),"DÉBIL",IF(AND(X10="DÉBIL",Y10="FUERTE"),"DÉBIL",IF(AND(X10="DÉBIL",Y10="MODERADO"),"DÉBIL",IF(AND(X10="DÉBIL",Y10="DÉBIL"),"DÉBIL","XX"))))))))) -> FUERTE | AB10: Fuerte | AC10: El control se ejecuta de manera consistente por parte del responsable
G11: NO | H11: SI | T11: IMPACTO | U11: =IF(G12>0,1,0) -> 1 | V11: =ROUNDDOWN(W11,0) -> 100 | W11: =AVERAGEIF(G9:G10,"SI",W9:W10) -> 100 | X11: =IF(W11<=85,"DÉBIL",IF(AND(W11>85,W11<=95),"MODERADO",IF(W11>96,"FUERTE","X"))) -> FUERTE | Y11: FUERTE | Z11: =IF(AND(X11="FUERTE",Y11="FUERTE"),"FUERTE",IF(AND(X11="FUERTE",Y11="MODERADO"),"MODERADO",IF(AND(X11="FUERTE",Y11="DÉBIL"),"DÉBIL",IF(AND(X11="MODERADO",Y11="FUERTE"),"MODERADO",IF(AND(X11="MODERADO",Y11="MODERADO"),"MODERADO",IF(AND(X11="MODERADO",Y11="DÉBIL"),"DÉBIL",IF(AND(X11="DÉBIL",Y11="FUERTE"),"DÉBIL",IF(AND(X11="DÉBIL",Y11="MODERADO"),"DÉBIL",IF(AND(X11="DÉBIL",Y11="DÉBIL"),"DÉBIL","XX"))))))))) -> FUERTE
D12: =COUNTA(D9:D10) -> 2 | G12: =COUNTIF(G9:G10,"SI") -> 1 | H12: =COUNTIF(H9:H10,"SI") -> 1 | T12: PROBABILIDAD | U12: =IF(H12>0,1,0) -> 1 | V12: =ROUNDDOWN(W12,0) -> 100 | W12: =AVERAGEIF(H9:H10,"SI",W9:W10) -> 100 | X12: =IF(W12<=85,"DÉBIL",IF(AND(W12>85,W12<=95),"MODERADO",IF(W12>96,"FUERTE","X"))) -> FUERTE | Y12: MODERADO | Z12: =IF(AND(X12="FUERTE",Y12="FUERTE"),"FUERTE",IF(AND(X12="FUERTE",Y12="MODERADO"),"MODERADO",IF(AND(X12="FUERTE",Y12="DÉBIL"),"DÉBIL",IF(AND(X12="MODERADO",Y12="FUERTE"),"MODERADO",IF(AND(X12="MODERADO",Y12="MODERADO"),"MODERADO",IF(AND(X12="MODERADO",Y12="DÉBIL"),"DÉBIL",IF(AND(X12="DÉBIL",Y12="FUERTE"),"DÉBIL",IF(AND(X12="DÉBIL",Y12="MODERADO"),"DÉBIL",IF(AND(X12="DÉBIL",Y12="DÉBIL"),"DÉBIL","XX"))))))))) -> MODERADO
A13: R2 | B13: ='2.Identificacion_Riesgos'!E12 -> Incumplimiento en la ejecución de las actividades planteadas en los proyectos ganadores de las convocatorias. | C13: ='2.Identificacion_Riesgos'!F12 -> 1,No se presta el acompañamiento adecuado por parte de las SCRD para el cumpliento de las actividades. | D13: C1 | E13: Se verifica el cumplimiento de las actividades a través del acompañamiento de cada uno de los responsables encargados. | F13: Informe final de ganadores y certificado de seguimiento de la ejecución. | G13: NO | H13: SI | I13: Asignado | J13: =IF(I13="Asignado",15,0) -> 15 | K13: Adecuado | L13: =IF(K13="Adecuado",15,0) -> 15 | M13: Oportuna | N13: =IF(M13="Oportuna",15,0) -> 15 | O13: Detectivo | P13: =IF(O13="Preventivo",15,0) -> 0 | Q13: Confiable | R13: =IF(Q13="Confiable",15,0) -> 15 | S13: Se investigan y resuelven oportunamente | T13: =IF(S13="Se investigan y resuelven oportunamente",15,0) -> 15 | U13: Completa | V13: =IF(U13="Completa",10,IF(U13="Incompleta ",5,IF(U13="No existente",0,0))) -> 10 | W13: =SUM(J13,L13,N13,P13,R13,T13,V13) -> 85 | X13: =IF(W13<=85,"DÉBIL",IF(AND(W13>85,W13<=95),"MODERADO",IF(W13>96,"FUERTE","X"))) -> DÉBIL | Y13: DÉBIL | Z13: =IF(AND(X13="FUERTE",Y13="FUERTE"),"FUERTE",IF(AND(X13="FUERTE",Y13="MODERADO"),"MODERADO",IF(AND(X13="FUERTE",Y13="DÉBIL"),"DÉBIL",IF(AND(X13="MODERADO",Y13="FUERTE"),"MODERADO",IF(AND(X13="MODERADO",Y13="MODERADO"),"MODERADO",IF(AND(X13="MODERADO",Y13="DÉBIL"),"DÉBIL",IF(AND(X13="DÉBIL",Y13="FUERTE"),"DÉBIL",IF(AND(X13="DÉBIL",Y13="MODERADO"),"DÉBIL",IF(AND(X13="DÉBIL",Y13="DÉBIL"),"DÉBIL","XX"))))))))) -> DÉBIL
C14: ='2.Identificacion_Riesgos'!F13 -> 2, El proceso de evaluación no identifica las falencias en la formulación de los proyectos. | D14: C2 | E14: Se realiza proceso de evaluación a cada una de las propuestas participantes. | F14: Planilla de evaluación de jurados (en linea) - Plataforma Convocatorias. | G14: SI | H14: NO | I14: Asignado | J14: =IF(I14="Asignado",15,0) -> 15 | K14: Adecuado | L14: =IF(K14="Adecuado",15,0) -> 15 | M14: Oportuna | N14: =IF(M14="Oportuna",15,0) -> 15 | O14: Preventivo | P14: =IF(O14="Preventivo",15,0) -> 15 | Q14: Confiable | R14: =IF(Q14="Confiable",15,0) -> 15 | S14: Se investigan y resuelven oportunamente | T14: =IF(S14="Se investigan y resuelven oportunamente",15,0) -> 15 | U14: Completa | V14: =IF(U14="Completa",10,IF(U14="Incompleta ",5,IF(U14="No existente",0,0))) -> 10 | W14: =SUM(J14,L14,N14,P14,R14,T14,V14) -> 100 | X14: =IF(W14<=85,"DÉBIL",IF(AND(W14>85,W14<=95),"MODERADO",IF(W14>96,"FUERTE","X"))) -> FUERTE | Y14: MODERADO | Z14: =IF(AND(X14="FUERTE",Y14="FUERTE"),"FUERTE",IF(AND(X14="FUERTE",Y14="MODERADO"),"MODERADO",IF(AND(X14="FUERTE",Y14="DÉBIL"),"DÉBIL",IF(AND(X14="MODERADO",Y14="FUERTE"),"MODERADO",IF(AND(X14="MODERADO",Y14="MODERADO"),"MODERADO",IF(AND(X14="MODERADO",Y14="DÉBIL"),"DÉBIL",IF(AND(X14="DÉBIL",Y14="FUERTE"),"DÉBIL",IF(AND(X14="DÉBIL",Y14="MODERADO"),"DÉBIL",IF(AND(X14="DÉBIL",Y14="DÉBIL"),"DÉBIL","XX"))))))))) -> MODERADO
T15: IMPACTO | U15: =IF(G16>0,1,0) -> 1 | V15: =ROUNDDOWN(W15,0) -> 100 | W15: =AVERAGEIF(G13:G14,"SI",W13:W14) -> 100 | X15: =IF(W15<=85,"DÉBIL",IF(AND(W15>85,W15<=95),"MODERADO",IF(W15>96,"FUERTE","X"))) -> FUERTE | Z15: =IF(AND(X15="FUERTE",Y15="FUERTE"),"FUERTE",IF(AND(X15="FUERTE",Y15="MODERADO"),"MODERADO",IF(AND(X15="FUERTE",Y15="DÉBIL"),"DÉBIL",IF(AND(X15="MODERADO",Y15="FUERTE"),"MODERADO",IF(AND(X15="MODERADO",Y15="MODERADO"),"MODERADO",IF(AND(X15="MODERADO",Y15="DÉBIL"),"DÉBIL",IF(AND(X15="DÉBIL",Y15="FUERTE"),"DÉBIL",IF(AND(X15="DÉBIL",Y15="MODERADO"),"DÉBIL",IF(AND(X15="DÉBIL",Y15="DÉBIL"),"DÉBIL","XX"))))))))) -> XX
D16: =COUNTA(D13:D14) -> 2 | G16: =COUNTIF(G12:G14,"SI") -> 1 | H16: =COUNTIF(H13:H15,"SI") -> 1 | T16: PROBABILIDAD | U16: =IF(H16>0,1,0) -> 1 | V16: =ROUNDDOWN(W16,0) -> 85 | W16: =AVERAGEIF(H13:H14,"SI",W13:W14) -> 85 | X16: =IF(W16<=85,"DÉBIL",IF(AND(W16>85,W16<=95),"MODERADO",IF(W16>96,"FUERTE","X"))) -> DÉBIL | Z16: =IF(AND(X16="FUERTE",Y16="FUERTE"),"FUERTE",IF(AND(X16="FUERTE",Y16="MODERADO"),"MODERADO",IF(AND(X16="FUERTE",Y16="DÉBIL"),"DÉBIL",IF(AND(X16="MODERADO",Y16="FUERTE"),"MODERADO",IF(AND(X16="MODERADO",Y16="MODERADO"),"MODERADO",IF(AND(X16="MODERADO",Y16="DÉBIL"),"DÉBIL",IF(AND(X16="DÉBIL",Y16="FUERTE"),"DÉBIL",IF(AND(X16="DÉBIL",Y16="MODERADO"),"DÉBIL",IF(AND(X16="DÉBIL",Y16="DÉBIL"),"DÉBIL","XX"))))))))) -> XX
A17: R3 | B17: ='2.Identificacion_Riesgos'!E14 -> Manipulación de la información para que los participantes reciban un beneficio economico sin cumplir con los requisitos establecidos, para beneficio porpio o de un tercero. | C17: ='2.Identificacion_Riesgos'!F14 -> 1, No se realiza la adecuada verificación de las propuestas por parte de el misional encragado de la convocatoria. | D17: C1 | E17: Verificación del cumplimiento de los requisitos para cada participante | F17: Plataforma de convocatorias. | G17: SI | H17: NO | I17: Asignado | J17: =IF(I17="Asignado",15,0) -> 15 | K17: Adecuado | L17: =IF(K17="Adecuado",15,0) -> 15 | M17: Oportuna | N17: =IF(M17="Oportuna",15,0) -> 15 | O17: Preventivo | P17: =IF(O17="Preventivo",15,0) -> 15 | Q17: Confiable | R17: =IF(Q17="Confiable",15,0) -> 15 | S17: Se investigan y resuelven oportunamente | T17: =IF(S17="Se investigan y resuelven oportunamente",15,0) -> 15 | U17: Completa | V17: =IF(U17="Completa",10,IF(U17="Incompleta ",5,IF(U17="No existente",0,0))) -> 10 | W17: =SUM(J17,L17,N17,P17,R17,T17,V17) -> 100 | X17: =IF(W17<=85,"DÉBIL",IF(AND(W17>85,W17<=95),"MODERADO",IF(W17>96,"FUERTE","X"))) -> FUERTE | Y17: MODERADO | Z17: =IF(AND(X17="FUERTE",Y17="FUERTE"),"FUERTE",IF(AND(X17="FUERTE",Y17="MODERADO"),"MODERADO",IF(AND(X17="FUERTE",Y17="DÉBIL"),"DÉBIL",IF(AND(X17="MODERADO",Y17="FUERTE"),"MODERADO",IF(AND(X17="MODERADO",Y17="MODERADO"),"MODERADO",IF(AND(X17="MODERADO",Y17="DÉBIL"),"DÉBIL",IF(AND(X17="DÉBIL",Y17="FUERTE"),"DÉBIL",IF(AND(X17="DÉBIL",Y17="MODERADO"),"DÉBIL",IF(AND(X17="DÉBIL",Y17="DÉBIL"),"DÉBIL","XX"))))))))) -> MODERADO
C18: ='2.Identificacion_Riesgos'!F15 -> 2, El proceso de evaluación por los jurados no cumple con los criterios establecidos por la convocatoria | D18: C2 | E18: Distribución del proceso de evaluaciones en los diferentes responsables de la convocatoria. | F18: Acta de reunión y listado de asistencia | G18: SI | H18: SI | I18: Asignado | J18: =IF(I18="Asignado",15,0) -> 15 | K18: Adecuado | L18: =IF(K18="Adecuado",15,0) -> 15 | M18: Oportuna | N18: =IF(M18="Oportuna",15,0) -> 15 | O18: Preventivo | P18: =IF(O18="Preventivo",15,0) -> 15 | Q18: Confiable | R18: =IF(Q18="Confiable",15,0) -> 15 | S18: Se investigan y resuelven oportunamente | T18: =IF(S18="Se investigan y resuelven oportunamente",15,0) -> 15 | U18: Completa | V18: =IF(U18="Completa",10,IF(U18="Incompleta ",5,IF(U18="No existente",0,0))) -> 10 | W18: =SUM(J18,L18,N18,P18,R18,T18,V18) -> 100 | X18: =IF(W18<=85,"DÉBIL",IF(AND(W18>85,W18<=95),"MODERADO",IF(W18>96,"FUERTE","X"))) -> FUERTE | Y18: MODERADO | Z18: =IF(AND(X18="FUERTE",Y18="FUERTE"),"FUERTE",IF(AND(X18="FUERTE",Y18="MODERADO"),"MODERADO",IF(AND(X18="FUERTE",Y18="DÉBIL"),"DÉBIL",IF(AND(X18="MODERADO",Y18="FUERTE"),"MODERADO",IF(AND(X18="MODERADO",Y18="MODERADO"),"MODERADO",IF(AND(X18="MODERADO",Y18="DÉBIL"),"DÉBIL",IF(AND(X18="DÉBIL",Y18="FUERTE"),"DÉBIL",IF(AND(X18="DÉBIL",Y18="MODERADO"),"DÉBIL",IF(AND(X18="DÉBIL",Y18="DÉBIL"),"DÉBIL","XX"))))))))) -> MODERADO
T19: IMPACTO | U19: =IF(G20>0,1,0) -> 1 | V19: =ROUNDDOWN(W19,0) -> 100 | W19: =AVERAGEIF(G17:G18,"SI",W17:W18) -> 100 | X19: =IF(W19<=85,"DÉBIL",IF(AND(W19>85,W19<=95),"MODERADO",IF(W19>96,"FUERTE","X"))) -> FUERTE
D20: =COUNTA(D17:D18) -> 2 | G20: =COUNTIF(G16:G18,"SI") -> 2 | H20: =COUNTIF(H17:H19,"SI") -> 1 | T20: PROBABILIDAD | U20: =IF(H20>0,1,0) -> 1 | V20: =ROUNDDOWN(W20,0) -> 100 | W20: =AVERAGEIF(H17:H18,"SI",W17:W18) -> 100 | X20: =IF(W20<=85,"DÉBIL",IF(AND(W20>85,W20<=95),"MODERADO",IF(W20>96,"FUERTE","X"))) -> FUERTE
A21: R4 | B21: ='2.Identificacion_Riesgos'!E16 -> 0 | C21: ='2.Identificacion_Riesgos'!F16 -> 0 | D21: C1
C22: ='2.Identificacion_Riesgos'!F17 -> 0 | D22: C2
C23: ='2.Identificacion_Riesgos'!F18 -> 0 | D23: C3
C24: ='2.Identificacion_Riesgos'!F19 -> 0
C25: ='2.Identificacion_Riesgos'!F20 -> 0
D28: =COUNTA(D21:D26) -> 3
A29: R5 | B29: ='2.Identificacion_Riesgos'!E21 -> 0 | C29: ='2.Identificacion_Riesgos'!F21 -> 0 | D29: C1
C30: ='2.Identificacion_Riesgos'!F22 -> 0 | D30: C2
C31: ='2.Identificacion_Riesgos'!F23 -> 0
C32: ='2.Identificacion_Riesgos'!F24 -> 0
C33: ='2.Identificacion_Riesgos'!F25 -> 0
D36: =COUNTA(D29:D34) -> 2
A37: R6 | B37: ='2.Identificacion_Riesgos'!E26 -> 0 | C37: ='2.Identificacion_Riesgos'!F26 -> 0
C38: ='2.Identificacion_Riesgos'!F27 -> 0
C39: ='2.Identificacion_Riesgos'!F28 -> 0
C40: ='2.Identificacion_Riesgos'!F29 -> 0
C41: ='2.Identificacion_Riesgos'!F30 -> 0
D44: =COUNTA(D37:D42) -> 0
A45: R7 | B45: ='2.Identificacion_Riesgos'!E31 -> 0 | C45: ='2.Identificacion_Riesgos'!F31 -> 0
C46: ='2.Identificacion_Riesgos'!F32 -> 0
C47: ='2.Identificacion_Riesgos'!F33 -> 0
C48: ='2.Identificacion_Riesgos'!F34 -> 0
C49: ='2.Identificacion_Riesgos'!F35 -> 0
...

Sheet 4.Mapa_Calor
H1: MAPA DE RIESGOS | AE1: Página 5 de 6
AE5: Código: FR-01-PR-MEJ-05 Versión: 3 Fecha: 14/11/2019
B11: RIESGO INHERENTE
B12: ANTES DE CONTROLES
F14: IMPACTO
F16: INSIGNIFICANTE | K16: MENOR | P16: MODERADO | U16: MAYOR | Z16: CATASTROFICO
B17: PROBABILIDAD | F17: =IF(AND('2.Identificacion_Riesgos'!$J$10=1,'2.Identificacion_Riesgos'!$L$10=1),'2.Identificacion_Riesgos'!A10,"") | G17: =IF(AND('2.Identificacion_Riesgos'!$J$12=1,'2.Identificacion_Riesgos'!$L$12=1),'2.Identificacion_Riesgos'!$A$12,"") | H17: =IF(AND('2.Identificacion_Riesgos'!$J$14=1,'2.Identificacion_Riesgos'!$L$14=1),'2.Identificacion_Riesgos'!$A$14,"") | I17: =IF(AND('2.Identificacion_Riesgos'!$J$16=1,'2.Identificacion_Riesgos'!$L$16=1),'2.Identificacion_Riesgos'!$A$16,"") | J17: =IF(AND('2.Identificacion_Riesgos'!$J$21=1,'2.Identificacion_Riesgos'!$L$21=1),'2.Identificacion_Riesgos'!$A$21,"") | K17: =IF(AND('2.Identificacion_Riesgos'!$J$10=1,'2.Identificacion_Riesgos'!$L$10=2),'2.Identificacion_Riesgos'!$A$10,"") | L17: =IF(AND('2.Identificacion_Riesgos'!$J$12=1,'2.Identificacion_Riesgos'!$L$12=2),'2.Identificacion_Riesgos'!$A$12,"") -> R2 | M17: =IF(AND('2.Identificacion_Riesgos'!$J$14=1,'2.Identificacion_Riesgos'!$L$14=2),'2.Identificacion_Riesgos'!$A$14,"") | N17: =IF(AND('2.Identificacion_Riesgos'!$J$16=1,'2.Identificacion_Riesgos'!$L$16=2),'2.Identificacion_Riesgos'!$A$16,"") | O17: =IF(AND('2.Identificacion_Riesgos'!$J$21=1,'2.Identificacion_Riesgos'!$L$21=2),'2.Identificacion_Riesgos'!$A$21,"") | P17: =IF(AND('2.Identificacion_Riesgos'!$J$10=1,'2.Identificacion_Riesgos'!$L$10=3),'2.Identificacion_Riesgos'!$A$10,"") | Q17: =IF(AND('2.Identificacion_Riesgos'!$J$12=1,'2.Identificacion_Riesgos'!$L$12=3),'2.Identificacion_Riesgos'!$A$12,"") | R17: =IF(AND('2.Identificacion_Riesgos'!$J$14=1,'2.Identificacion_Riesgos'!$L$14=3),'2.Identificacion_Riesgos'!$A$14,"") | S17: =IF(AND('2.Identificacion_Riesgos'!$J$16=1,'2.Identificacion_Riesgos'!$L$16=3),'2.Identificacion_Riesgos'!$A$16,"") | T17: =IF(AND('2.Identificacion_Riesgos'!$J$21=1,'2.Identificacion_Riesgos'!$L$21=3),'2.Identificacion_Riesgos'!$A$21,"") | U17: =IF(AND('2.Identificacion_Riesgos'!$J$10=1,'2.Identificacion_Riesgos'!$L$10=4),'2.Identificacion_Riesgos'!$A$10,"") | V17: =IF(AND('2.Identificacion_Riesgos'!$J$12=1,'2.Identificacion_Riesgos'!$L$12=4),'2.Identificacion_Riesgos'!$A$12,"") | W17: =IF(AND('2.Identificacion_Riesgos'!$J$14=1,'2.Identificacion_Riesgos'!$L$14=4),'2.Identificacion_Riesgos'!$A$14,"") | X17: =IF(AND('2.Identificacion_Riesgos'!$J$16=1,'2.Identificacion_Riesgos'!$L$16=4),'2.Identificacion_Riesgos'!$A$16,"") | Y17: =IF(AND('2.Identificacion_Riesgos'!$J$21=1,'2.Identificacion_Riesgos'!$L$46=4),'2.Identificacion_Riesgos'!$A$21,"") | Z17: =IF(AND('2.Identificacion_Riesgos'!$J$10=1,'2.Identificacion_Riesgos'!$L$10=5),'2.Identificacion_Riesgos'!$A$10,"") | AA17: =IF(AND('2.Identificacion_Riesgos'!$J$12=1,'2.Identificacion_Riesgos'!$L$12=5),'2.Identificacion_Riesgos'!$A$12,"") | AB17: =IF(AND('2.Identificacion_Riesgos'!$J$14=1,'2.Identificacion_Riesgos'!$L$14=5),'2.Identificacion_Riesgos'!$A$14,"") | AC17: =IF(AND('2.Identificacion_Riesgos'!$J$16=1,'2.Identificacion_Riesgos'!$L$16=5),'2.Identificacion_Riesgos'!$A$16,"") | AD17: =IF(AND('2.Identificacion_Riesgos'!$J$21=1,'2.Identificacion_Riesgos'!$L$21=5),'2.Identificacion_Riesgos'!$A$21,"")
C18: RARO | F18: =IF(AND('2.Identificacion_Riesgos'!$J$26=1,'2.Identificacion_Riesgos'!$L$26=1),'2.Identificacion_Riesgos'!$A$26,"") | G18: =IF(AND('2.Identificacion_Riesgos'!$J$31=1,'2.Identificacion_Riesgos'!$L$31=1),'2.Identificacion_Riesgos'!$A$31,"") | H18: =IF(AND('2.Identificacion_Riesgos'!$J$36=1,'2.Identificacion_Riesgos'!$L$36=1),'2.Identificacion_Riesgos'!$A$36,"") | I18: =IF(AND('2.Identificacion_Riesgos'!$J$41=1,'2.Identificacion_Riesgos'!$L$41=1),'2.Identificacion_Riesgos'!$A$41,"") | J18: =IF(AND('2.Identificacion_Riesgos'!$J$46=1,'2.Identificacion_Riesgos'!$L$46=1),'2.Identificacion_Riesgos'!$A$46,"") | K18: =IF(AND('2.Identificacion_Riesgos'!$J$26=1,'2.Identificacion_Riesgos'!$L$26=2),'2.Identificacion_Riesgos'!$A$26,"") | L18: =IF(AND('2.Identificacion_Riesgos'!$J$31=1,'2.Identificacion_Riesgos'!$L$31=2),'2.Identificacion_Riesgos'!$A$31,"") | M18: =IF(AND('2.Identificacion_Riesgos'!$J$36=1,'2.Identificacion_Riesgos'!$L$36=2),'2.Identificacion_Riesgos'!$A$36,"") | N18: =IF(AND('2.Identificacion_Riesgos'!$J$41=1,'2.Identificacion_Riesgos'!$L$41=2),'2.Identificacion_Riesgos'!$A$41,"") | O18: =IF(AND('2.Identificacion_Riesgos'!$J$46=1,'2.Identificacion_Riesgos'!$L$46=2),'2.Identificacion_Riesgos'!$A$46,"") | P18: =IF(AND('2.Identificacion_Riesgos'!$J$26=1,'2.Identificacion_Riesgos'!$L$26=3),'2.Identificacion_Riesgos'!$A$26,"") | Q18: =IF(AND('2.Identificacion_Riesgos'!$J$31=1,'2.Identificacion_Riesgos'!$L$31=3),'2.Identificacion_Riesgos'!$A$31,"") | R18: =IF(AND('2.Identificacion_Riesgos'!$J$36=1,'2.Identificacion_Riesgos'!$L$36=3),'2.Identificacion_Riesgos'!$A$36,"") | S18: =IF(AND('2.Identificacion_Riesgos'!$J$41=1,'2.Identificacion_Riesgos'!$L$41=3),'2.Identificacion_Riesgos'!$A$41,"") | T18: =IF(AND('2.Identificacion_Riesgos'!$J$46=1,'2.Identificacion_Riesgos'!$L$46=3),'2.Identificacion_Riesgos'!$A$46,"") | U18: =IF(AND('2.Identificacion_Riesgos'!$J$26=1,'2.Identificacion_Riesgos'!$L$26=4),'2.Identificacion_Riesgos'!$A$26,"") | V18: =IF(AND('2.Identificacion_Riesgos'!$J$31=1,'2.Identificacion_Riesgos'!$L$31=4),'2.Identificacion_Riesgos'!$A$31,"") | W18: =IF(AND('2.Identificacion_Riesgos'!$J$36=1,'2.Identificacion_Riesgos'!$L$36=4),'2.Identificacion_Riesgos'!$A$36,"") | X18: =IF(AND('2.Identificacion_Riesgos'!$J$41=1,'2.Identificacion_Riesgos'!$L$41=4),'2.Identificacion_Riesgos'!$A$41,"") | Y18: =IF(AND('2.Identificacion_Riesgos'!$J$46=1,'2.Identificacion_Riesgos'!$L$46=4),'2.Identificacion_Riesgos'!$A$46,"") | Z18: =IF(AND('2.Identificacion_Riesgos'!$J$26=1,'2.Identificacion_Riesgos'!$L$26=5),'2.Identificacion_Riesgos'!$A$26,"") | AA18: =IF(AND('2.Identificacion_Riesgos'!$J$31=1,'2.Identificacion_Riesgos'!$L$31=5),'2.Identificacion_Riesgos'!$A$31,"") | AB18: =IF(AND('2.Identificacion_Riesgos'!$J$36=1,'2.Identificacion_Riesgos'!$L$36=5),'2.Identificacion_Riesgos'!$A$36,"") | AC18: =IF(AND('2.Identificacion_Riesgos'!$J$41=1,'2.Identificacion_Riesgos'!$L$41=5),'2.Identificacion_Riesgos'!$A$41,"") | AD18: =IF(AND('2.Identificacion_Riesgos'!$J$46=1,'2.Identificacion_Riesgos'!$L$46=5),'2.Identificacion_Riesgos'!$A$46,"")
F19: 0.04 | K19: 0.16 | P19: 0.32 | U19: 0.6 | Z19: 0.68
F20: =IF(AND('2.Identificacion_Riesgos'!$J$10=2,'2.Identificacion_Riesgos'!$L$10=1),'2.Identificacion_Riesgos'!$A$10,"") | G20: =IF(AND('2.Identificacion_Riesgos'!$J$12=2,'2.Identificacion_Riesgos'!$L$12=1),'2.Identificacion_Riesgos'!$A$12,"") | H20: =IF(AND('2.Identificacion_Riesgos'!$J$14=2,'2.Identificacion_Riesgos'!$L$14=1),'2.Identificacion_Riesgos'!$A$14,"") | I20: =IF(AND('2.Identificacion_Riesgos'!$J$16=2,'2.Identificacion_Riesgos'!$L$16=1),'2.Identificacion_Riesgos'!$A$16,"") | J20: =IF(AND('2.Identificacion_Riesgos'!$J$21=2,'2.Identificacion_Riesgos'!$L$21=1),'2.Identificacion_Riesgos'!$A$21,"") | K20: =IF(AND('2.Identificacion_Riesgos'!$J$10=2,'2.Identificacion_Riesgos'!$L$10=2),'2.Identificacion_Riesgos'!$A$10,"") | L20: =IF(AND('2.Identificacion_Riesgos'!$J$12=2,'2.Identificacion_Riesgos'!$L$12=2),'2.Identificacion_Riesgos'!$A$12,"") | M20: =IF(AND('2.Identificacion_Riesgos'!$J$14=2,'2.Identificacion_Riesgos'!$L$14=2),'2.Identificacion_Riesgos'!$A$14,"") | N20: =IF(AND('2.Identificacion_Riesgos'!$J$16=2,'2.Identificacion_Riesgos'!$L$16=2),'2.Identificacion_Riesgos'!$A$16,"") | O20: =IF(AND('2.Identificacion_Riesgos'!$J$21=2,'2.Identificacion_Riesgos'!$L$21=2),'2.Identificacion_Riesgos'!$A$21,"") | P20: =IF(AND('2.Identificacion_Riesgos'!$J$10=2,'2.Identificacion_Riesgos'!$L$10=3),'2.Identificacion_Riesgos'!$A$10,"") | Q20: =IF(AND('2.Identificacion_Riesgos'!$J$12=2,'2.Identificacion_Riesgos'!$L$12=3),'2.Identificacion_Riesgos'!$A$12,"") | R20: =IF(AND('2.Identificacion_Riesgos'!$J$14=2,'2.Identificacion_Riesgos'!$L$14=3),'2.Identificacion_Riesgos'!$A$14,"") | S20: =IF(AND('2.Identificacion_Riesgos'!$J$16=2,'2.Identificacion_Riesgos'!$L$16=3),'2.Identificacion_Riesgos'!$A$16,"") | T20: =IF(AND('2.Identificacion_Riesgos'!$J$21=2,'2.Identificacion_Riesgos'!$L$21=3),'2.Identificacion_Riesgos'!$A$21,"") | U20: =IF(AND('2.Identificacion_Riesgos'!$J$10=2,'2.Identificacion_Riesgos'!$L$10=4),'2.Identificacion_Riesgos'!$A$10,"") | V20: =IF(AND('2.Identificacion_Riesgos'!$J$12=2,'2.Identificacion_Riesgos'!$L$12=4),'2.Identificacion_Riesgos'!$A$12,"") | W20: =IF(AND('2.Identificacion_Riesgos'!$J$14=2,'2.Identificacion_Riesgos'!$L$14=4),'2.Identificacion_Riesgos'!$A$14,"") | X20: =IF(AND('2.Identificacion_Riesgos'!$J$16=2,'2.Identificacion_Riesgos'!$L$16=4),'2.Identificacion_Riesgos'!$A$16,"") | Y20: =IF(AND('2.Identificacion_Riesgos'!$J$21=2,'2.Identificacion_Riesgos'!$L$21=4),'2.Identificacion_Riesgos'!$A$21,"") | Z20: =IF(AND('2.Identificacion_Riesgos'!$J$10=2,'2.Identificacion_Riesgos'!$L$10=5),'2.Identificacion_Riesgos'!$A$10,"") | AA20: =IF(AND('2.Identificacion_Riesgos'!$J$12=2,'2.Identificacion_Riesgos'!$L$12=5),'2.Identificacion_Riesgos'!$A$12,"") | AB20: =IF(AND('2.Identificacion_Riesgos'!$J$14=2,'2.Identificacion_Riesgos'!$L$14=5),'2.Identificacion_Riesgos'!$A$14,"") | AC20: =IF(AND('2.Identificacion_Riesgos'!$J$16=2,'2.Identificacion_Riesgos'!$L$16=5),'2.Identificacion_Riesgos'!$A$16,"") | AD20: =IF(AND('2.Identificacion_Riesgos'!$J$21=2,'2.Identificacion_Riesgos'!$L$21=5),'2.Identificacion_Riesgos'!$A$21,"")
C21: IMPROBABLE | F21: =IF(AND('2.Identificacion_Riesgos'!$J$26=2,'2.Identificacion_Riesgos'!$L$26=1),'2.Identificacion_Riesgos'!$A$26,"") | G21: =IF(AND('2.Identificacion_Riesgos'!$J$31=2,'2.Identificacion_Riesgos'!$L$31=1),'2.Identificacion_Riesgos'!$A$31,"") | H21: =IF(AND('2.Identificacion_Riesgos'!$J$36=2,'2.Identificacion_Riesgos'!$L$36=1),'2.Identificacion_Riesgos'!$A$36,"") | I21: =IF(AND('2.Identificacion_Riesgos'!$J$41=2,'2.Identificacion_Riesgos'!$L$41=1),'2.Identificacion_Riesgos'!$A$41,"") | J21: =IF(AND('2.Identificacion_Riesgos'!$J$46=2,'2.Identificacion_Riesgos'!$L$46=1),'2.Identificacion_Riesgos'!$A$46,"") | K21: =IF(AND('2.Identificacion_Riesgos'!$J$26=2,'2.Identificacion_Riesgos'!$L$26=2),'2.Identificacion_Riesgos'!$A$26,"") | L21: =IF(AND('2.Identificacion_Riesgos'!$J$31=2,'2.Identificacion_Riesgos'!$L$31=2),'2.Identificacion_Riesgos'!$A$31,"") | M21: =IF(AND('2.Identificacion_Riesgos'!$J$36=2,'2.Identificacion_Riesgos'!$L$36=2),'2.Identificacion_Riesgos'!$A$36,"") | N21: =IF(AND('2.Identificacion_Riesgos'!$J$41=2,'2.Identificacion_Riesgos'!$L$41=2),'2.Identificacion_Riesgos'!$A$41,"") | O21: =IF(AND('2.Identificacion_Riesgos'!$J$46=2,'2.Identificacion_Riesgos'!$L$46=2),'2.Identificacion_Riesgos'!$A$46,"") | P21: =IF(AND('2.Identificacion_Riesgos'!$J$26=2,'2.Identificacion_Riesgos'!$L$26=3),'2.Identificacion_Riesgos'!$A$26,"") | Q21: =IF(AND('2.Identificacion_Riesgos'!$J$31=2,'2.Identificacion_Riesgos'!$L$31=3),'2.Identificacion_Riesgos'!$A$31,"") | R21: =IF(AND('2.Identificacion_Riesgos'!$J$36=2,'2.Identificacion_Riesgos'!$L$36=3),'2.Identificacion_Riesgos'!$A$36,"") | S21: =IF(AND('2.Identificacion_Riesgos'!$J$41=2,'2.Identificacion_Riesgos'!$L$41=3),'2.Identificacion_Riesgos'!$A$41,"") | T21: =IF(AND('2.Identificacion_Riesgos'!$J$46=2,'2.Identificacion_Riesgos'!$L$46=3),'2.Identificacion_Riesgos'!$A$46,"") | U21: =IF(AND('2.Identificacion_Riesgos'!$J$26=2,'2.Identificacion_Riesgos'!$L$26=4),'2.Identificacion_Riesgos'!$A$26,"") | V21: =IF(AND('2.Identificacion_Riesgos'!$J$31=2,'2.Identificacion_Riesgos'!$L$31=4),'2.Identificacion_Riesgos'!$A$31,"") | W21: =IF(AND('2.Identificacion_Riesgos'!$J$36=2,'2.Identificacion_Riesgos'!$L$36=4),'2.Identificacion_Riesgos'!$A$36,"") | X21: =IF(AND('2.Identificacion_Riesgos'!$J$41=2,'2.Identificacion_Riesgos'!$L$41=4),'2.Identificacion_Riesgos'!$A$41,"") | Y21: =IF(AND('2.Identificacion_Riesgos'!$J$46=2,'2.Identificacion_Riesgos'!$L$46=4),'2.Identificacion_Riesgos'!$A$46,"") | Z21: =IF(AND('2.Identificacion_Riesgos'!$J$26=2,'2.Identificacion_Riesgos'!$L$26=5),'2.Identificacion_Riesgos'!$A$26,"") | AA21: =IF(AND('2.Identificacion_Riesgos'!$J$31=2,'2.Identificacion_Riesgos'!$L$31=5),'2.Identificacion_Riesgos'!$A$31,"") | AB21: =IF(AND('2.Identificacion_Riesgos'!$J$36=2,'2.Identificacion_Riesgos'!$L$36=5),'2.Identificacion_Riesgos'!$A$36,"") | AC21: =IF(AND('2.Identificacion_Riesgos'!$J$41=2,'2.Identificacion_Riesgos'!$L$41=5),'2.Identificacion_Riesgos'!$A$41,"") | AD21: =IF(AND('2.Identificacion_Riesgos'!$J$46=2,'2.Identificacion_Riesgos'!$L$46=5),'2.Identificacion_Riesgos'!$A$46,"")
F22: 0.08 | K22: 0.2 | P22: 0.36 | U22: 0.64 | Z22: 0.88
F23: =IF(AND('2.Identificacion_Riesgos'!$J$10=3,'2.Identificacion_Riesgos'!$L$10=1),'2.Identificacion_Riesgos'!$A$10,"") | G23: =IF(AND('2.Identificacion_Riesgos'!$J$12=3,'2.Identificacion_Riesgos'!$L$12=1),'2.Identificacion_Riesgos'!$A$12,"") | H23: =IF(AND('2.Identificacion_Riesgos'!$J$14=3,'2.Identificacion_Riesgos'!$L$14=1),'2.Identificacion_Riesgos'!$A$14,"") | I23: =IF(AND('2.Identificacion_Riesgos'!$J$16=3,'2.Identificacion_Riesgos'!$L$16=1),'2.Identificacion_Riesgos'!$A$16,"") | J23: =IF(AND('2.Identificacion_Riesgos'!$J$21=3,'2.Identificacion_Riesgos'!$L$21=1),'2.Identificacion_Riesgos'!$A$21,"") | K23: =IF(AND('2.Identificacion_Riesgos'!$J$10=3,'2.Identificacion_Riesgos'!$L$10=2),'2.Identificacion_Riesgos'!$A$10,"") -> R1 | L23: =IF(AND('2.Identificacion_Riesgos'!$J$12=3,'2.Identificacion_Riesgos'!$L$12=2),'2.Identificacion_Riesgos'!$A$12,"") | M23: =IF(AND('2.Identificacion_Riesgos'!$J$14=3,'2.Identificacion_Riesgos'!$L$14=2),'2.Identificacion_Riesgos'!$A$14,"") | N23: =IF(AND('2.Identificacion_Riesgos'!$J$16=3,'2.Identificacion_Riesgos'!$L$16=2),'2.Identificacion_Riesgos'!$A$16,"") | O23: =IF(AND('2.Identificacion_Riesgos'!$J$21=3,'2.Identificacion_Riesgos'!$L$21=2),'2.Identificacion_Riesgos'!$A$21,"") | P23: =IF(AND('2.Identificacion_Riesgos'!$J$10=3,'2.Identificacion_Riesgos'!$L$10=3),'2.Identificacion_Riesgos'!$A$10,"") | Q23: =IF(AND('2.Identificacion_Riesgos'!$J$12=3,'2.Identificacion_Riesgos'!$L$12=3),'2.Identificacion_Riesgos'!$A$12,"") | R23: =IF(AND('2.Identificacion_Riesgos'!$J$14=3,'2.Identificacion_Riesgos'!$L$14=3),'2.Identificacion_Riesgos'!$A$14,"") -> R3 | S23: =IF(AND('2.Identificacion_Riesgos'!$J$16=3,'2.Identificacion_Riesgos'!$L$16=3),'2.Identificacion_Riesgos'!$A$16,"") | T23: =IF(AND('2.Identificacion_Riesgos'!$J$21=3,'2.Identificacion_Riesgos'!$L$21=3),'2.Identificacion_Riesgos'!$A$21,"") | U23: =IF(AND('2.Identificacion_Riesgos'!$J$10=3,'2.Identificacion_Riesgos'!$L$10=4),'2.Identificacion_Riesgos'!$A$10,"") | V23: =IF(AND('2.Identificacion_Riesgos'!$J$12=3,'2.Identificacion_Riesgos'!$L$12=4),'2.Identificacion_Riesgos'!$A$12,"") | W23: =IF(AND('2.Identificacion_Riesgos'!$J$14=3,'2.Identificacion_Riesgos'!$L$14=4),'2.Identificacion_Riesgos'!$A$14,"") | X23: =IF(AND('2.Identificacion_Riesgos'!$J$16=3,'2.Identificacion_Riesgos'!$L$16=4),'2.Identificacion_Riesgos'!$A$16,"") | Y23: =IF(AND('2.Identificacion_Riesgos'!$J$21=3,'2.Identificacion_Riesgos'!$L$21=4),'2.Identificacion_Riesgos'!$A$21,"") | Z23: =IF(AND('2.Identificacion_Riesgos'!$J$10=3,'2.Identificacion_Riesgos'!$L$10=5),'2.Identificacion_Riesgos'!$A$10,"") | AA23: =IF(AND('2.Identificacion_Riesgos'!$J$12=3,'2.Identificacion_Riesgos'!$L$12=5),'2.Identificacion_Riesgos'!$A$12,"") | AB23: =IF(AND('2.Identificacion_Riesgos'!$J$14=3,'2.Identificacion_Riesgos'!$L$14=5),'2.Identificacion_Riesgos'!$A$14,"") | AC23: =IF(AND('2.Identificacion_Riesgos'!$J$16=3,'2.Identificacion_Riesgos'!$L$16=5),'2.Identificacion_Riesgos'!$A$16,"") | AD23: =IF(AND('2.Identificacion_Riesgos'!$J$21=3,'2.Identificacion_Riesgos'!$L$21=5),'2.Identificacion_Riesgos'!$A$21,"")
C24: POSIBLE | F24: =IF(AND('2.Identificacion_Riesgos'!$J$26=3,'2.Identificacion_Riesgos'!$L$26=1),'2.Identificacion_Riesgos'!$A$26,"") | G24: =IF(AND('2.Identificacion_Riesgos'!$J$31=3,'2.Identificacion_Riesgos'!$L$31=1),'2.Identificacion_Riesgos'!$A$31,"") | H24: =IF(AND('2.Identificacion_Riesgos'!$J$36=3,'2.Identificacion_Riesgos'!$L$36=1),'2.Identificacion_Riesgos'!$A$36,"") | I24: =IF(AND('2.Identificacion_Riesgos'!$J$41=3,'2.Identificacion_Riesgos'!$L$41=1),'2.Identificacion_Riesgos'!$A$41,"") | J24: =IF(AND('2.Identificacion_Riesgos'!$J$46=3,'2.Identificacion_Riesgos'!$L$46=1),'2.Identificacion_Riesgos'!$A$46,"") | K24: =IF(AND('2.Identificacion_Riesgos'!$J$26=3,'2.Identificacion_Riesgos'!$L$26=2),'2.Identificacion_Riesgos'!$A$26,"") | L24: =IF(AND('2.Identificacion_Riesgos'!$J$31=3,'2.Identificacion_Riesgos'!$L$31=2),'2.Identificacion_Riesgos'!$A$31,"") | M24: =IF(AND('2.Identificacion_Riesgos'!$J$36=3,'2.Identificacion_Riesgos'!$L$36=2),'2.Identificacion_Riesgos'!$A$36,"") | N24: =IF(AND('2.Identificacion_Riesgos'!$J$41=3,'2.Identificacion_Riesgos'!$L$41=2),'2.Identificacion_Riesgos'!$A$41,"") | O24: =IF(AND('2.Identificacion_Riesgos'!$J$46=3,'2.Identificacion_Riesgos'!$L$46=2),'2.Identificacion_Riesgos'!$A$46,"") | P24: =IF(AND('2.Identificacion_Riesgos'!$J$26=3,'2.Identificacion_Riesgos'!$L$26=3),'2.Identificacion_Riesgos'!$A$26,"") | Q24: =IF(AND('2.Identificacion_Riesgos'!$J$31=3,'2.Identificacion_Riesgos'!$L$31=3),'2.Identificacion_Riesgos'!$A$31,"") | R24: =IF(AND('2.Identificacion_Riesgos'!$J$36=3,'2.Identificacion_Riesgos'!$L$36=3),'2.Identificacion_Riesgos'!$A$36,"") | S24: =IF(AND('2.Identificacion_Riesgos'!$J$41=3,'2.Identificacion_Riesgos'!$L$41=3),'2.Identificacion_Riesgos'!$A$41,"") | T24: =IF(AND('2.Identificacion_Riesgos'!$J$46=3,'2.Identificacion_Riesgos'!$L$46=3),'2.Identificacion_Riesgos'!$A$46,"") | U24: =IF(AND('2.Identificacion_Riesgos'!$J$26=3,'2.Identificacion_Riesgos'!$L$26=4),'2.Identificacion_Riesgos'!$A$26,"") | V24: =IF(AND('2.Identificacion_Riesgos'!$J$31=3,'2.Identificacion_Riesgos'!$L$31=4),'2.Identificacion_Riesgos'!$A$31,"") | W24: =IF(AND('2.Identificacion_Riesgos'!$J$36=3,'2.Identificacion_Riesgos'!$L$36=4),'2.Identificacion_Riesgos'!$A$36,"") | X24: =IF(AND('2.Identificacion_Riesgos'!$J$41=3,'2.Identificacion_Riesgos'!$L$41=4),'2.Identificacion_Riesgos'!$A$41,"") | Y24: =IF(AND('2.Identificacion_Riesgos'!$J$46=3,'2.Identificacion_Riesgos'!$L$46=4),'2.Identificacion_Riesgos'!$A$46,"") | Z24: =IF(AND('2.Identificacion_Riesgos'!$J$26=3,'2.Identificacion_Riesgos'!$L$26=5),'2.Identificacion_Riesgos'!$A$26,"") | AA24: =IF(AND('2.Identificacion_Riesgos'!$J$31=3,'2.Identificacion_Riesgos'!$L$31=5),'2.Identificacion_Riesgos'!$A$31,"") | AB24: =IF(AND('2.Identificacion_Riesgos'!$J$36=3,'2.Identificacion_Riesgos'!$L$36=5),'2.Identificacion_Riesgos'!$A$36,"") | AC24: =IF(AND('2.Identificacion_Riesgos'!$J$41=3,'2.Identificacion_Riesgos'!$L$41=5),'2.Identificacion_Riesgos'!$A$41,"") | AD24: =IF(AND('2.Identificacion_Riesgos'!$J$46=3,'2.Identificacion_Riesgos'!$L$46=5),'2.Identificacion_Riesgos'!$A$46,"")
F25: 0.12 | K25: 0.28 | P25: 0.52 | U25: 0.76 | Z25: 0.92
F26: =IF(AND('2.Identificacion_Riesgos'!$J$10=4,'2.Identificacion_Riesgos'!$L$10=1),'2.Identificacion_Riesgos'!$A$10,"") | G26: =IF(AND('2.Identificacion_Riesgos'!$J$12=4,'2.Identificacion_Riesgos'!$L$12=1),'2.Identificacion_Riesgos'!$A$12,"") | H26: =IF(AND('2.Identificacion_Riesgos'!$J$14=4,'2.Identificacion_Riesgos'!$L$14=1),'2.Identificacion_Riesgos'!$A$14,"") | I26: =IF(AND('2.Identificacion_Riesgos'!$J$16=4,'2.Identificacion_Riesgos'!$L$16=1),'2.Identificacion_Riesgos'!$A$16,"") | J26: =IF(AND('2.Identificacion_Riesgos'!$J$21=4,'2.Identificacion_Riesgos'!$L$21=1),'2.Identificacion_Riesgos'!$A$21,"") | K26: =IF(AND('2.Identificacion_Riesgos'!$J$10=4,'2.Identificacion_Riesgos'!$L$10=2),'2.Identificacion_Riesgos'!$A$10,"") | L26: =IF(AND('2.Identificacion_Riesgos'!$J$12=4,'2.Identificacion_Riesgos'!$L$12=2),'2.Identificacion_Riesgos'!$A$12,"") | M26: =IF(AND('2.Identificacion_Riesgos'!$J$14=4,'2.Identificacion_Riesgos'!$L$14=2),'2.Identificacion_Riesgos'!$A$14,"") | N26: =IF(AND('2.Identificacion_Riesgos'!$J$16=4,'2.Identificacion_Riesgos'!$L$16=2),'2.Identificacion_Riesgos'!$A$16,"") | O26: =IF(AND('2.Identificacion_Riesgos'!$J$21=4,'2.Identificacion_Riesgos'!$L$21=2),'2.Identificacion_Riesgos'!$A$21,"") | P26: =IF(AND('2.Identificacion_Riesgos'!$J$10=4,'2.Identificacion_Riesgos'!$L$10=3),'2.Identificacion_Riesgos'!$A$10,"") | Q26: =IF(AND('2.Identificacion_Riesgos'!$J$12=4,'2.Identificacion_Riesgos'!$L$12=3),'2.Identificacion_Riesgos'!$A$12,"") | R26: =IF(AND('2.Identificacion_Riesgos'!$J$14=4,'2.Identificacion_Riesgos'!$L$14=3),'2.Identificacion_Riesgos'!$A$14,"") | S26: =IF(AND('2.Identificacion_Riesgos'!$J$16=4,'2.Identificacion_Riesgos'!$L$16=3),'2.Identificacion_Riesgos'!$A$16,"") | T26: =IF(AND('2.Identificacion_Riesgos'!$J$21=4,'2.Identificacion_Riesgos'!$L$21=3),'2.Identificacion_Riesgos'!$A$21,"") | U26: =IF(AND('2.Identificacion_Riesgos'!$J$10=4,'2.Identificacion_Riesgos'!$L$10=4),'2.Identificacion_Riesgos'!$A$10,"") | V26: =IF(AND('2.Identificacion_Riesgos'!$J$12=4,'2.Identificacion_Riesgos'!$L$12=4),'2.Identificacion_Riesgos'!$A$12,"") | W26: =IF(AND('2.Identificacion_Riesgos'!$J$14=4,'2.Identificacion_Riesgos'!$L$14=4),'2.Identificacion_Riesgos'!$A$14,"") | X26: =IF(AND('2.Identificacion_Riesgos'!$J$16=4,'2.Identificacion_Riesgos'!$L$16=4),'2.Identificacion_Riesgos'!$A$16,"") | Y26: =IF(AND('2.Identificacion_Riesgos'!$J$21=4,'2.Identificacion_Riesgos'!$L$21=4),'2.Identificacion_Riesgos'!$A$21,"") | Z26: =IF(AND('2.Identificacion_Riesgos'!$J$10=4,'2.Identificacion_Riesgos'!$L$10=5),'2.Identificacion_Riesgos'!$A$10,"") | AA26: =IF(AND('2.Identificacion_Riesgos'!$J$12=4,'2.Identificacion_Riesgos'!$L$12=5),'2.Identificacion_Riesgos'!$A$12,"") | AB26: =IF(AND('2.Identificacion_Riesgos'!$J$14=4,'2.Identificacion_Riesgos'!$L$14=5),'2.Identificacion_Riesgos'!$A$14,"") | AC26: =IF(AND('2.Identificacion_Riesgos'!$J$16=4,'2.Identificacion_Riesgos'!$L$16=5),'2.Identificacion_Riesgos'!$A$16,"") | AD26: =IF(AND('2.Identificacion_Riesgos'!$J$21=4,'2.Identificacion_Riesgos'!$L$21=5),'2.Identificacion_Riesgos'!$A$21,"")
